BEGIN:VCALENDAR
VERSION:2.0
PRODID:spatie/icalendar-generator
DESCRIPTION:Veranstaltungen von Stadtorchester Buchholz e.V.
X-WR-CALDESC:Veranstaltungen von Stadtorchester Buchholz e.V.
REFRESH-INTERVAL;VALUE=DURATION:PT1440M
X-PUBLISHED-TTL:PT1440M
BEGIN:VTIMEZONE
TZID:Europe/Berlin
BEGIN:STANDARD
DTSTART:20251026T030000Z
TZOFFSETFROM:+0200
TZOFFSETTO:+0100
END:STANDARD
BEGIN:DAYLIGHT
DTSTART:20260329T020000Z
TZOFFSETFROM:+0100
TZOFFSETTO:+0200
END:DAYLIGHT
BEGIN:STANDARD
DTSTART:20261025T030000Z
TZOFFSETFROM:+0200
TZOFFSETTO:+0100
END:STANDARD
END:VTIMEZONE
BEGIN:VTIMEZONE
TZID:UTC
BEGIN:STANDARD
DTSTART:20250726T143331Z
TZOFFSETFROM:+0000
TZOFFSETTO:+0000
END:STANDARD
END:VTIMEZONE
BEGIN:VEVENT
UID:28-22
DTSTAMP:20260422T143331Z
SUMMARY:Offene Probe - Tag der Offenen Tür beim Stadtorchester Buchholz
LOCATION:Rudolf-Steiner-Schule Kakenstorf Lange Str. 2  Kakenstorf  21255
ORGANIZER;CN=RB:MAILTO:runa@breddy.de
DTSTART;TZID=Europe/Berlin:20260426T100000
DTEND;TZID=Europe/Berlin:20260426T160000
X-ALT-DESC;FMTTYPE=TEXT/HTML:Herzliche Einladung zum Tag der offenen Tür d
 es Stadtorchesters Buchholz und der Early Birds am Sonntag\, den 26.04.202
 6\, von 10:00 bis 16:00 Uhr im Bewegungshaus der Rudolf-Steiner-Schule Kak
 enstorf\, Lange Str. 2\, 21255 Kakenstorf. Im Rahmen unseres 50jährigen O
 rchesterjubiläums öffnen wir die Tore und ermöglichen einen Blick hinte
 r die Kulissen unseres Orchesters. Das vorläufige Programm: •&amp;hellip\;
CATEGORIES:General
URL;VALUE=URI:https://www.stadtorchester-buchholz.de/mc-events/offene-probe
 -tag-der-offenen-tuer-beim-stadtorchester-buchholz/
METHOD:PUBLISH
END:VEVENT
END:VCALENDAR